BEGIN:VCALENDAR
VERSION:2.0
PRODID:-//Deutsche Jiu-Jitsu Union e.V. - ECPv6.2.4//NONSGML v1.0//EN
CALSCALE:GREGORIAN
METHOD:PUBLISH
X-ORIGINAL-URL:https://djju.de
X-WR-CALDESC:Veranstaltungen für Deutsche Jiu-Jitsu Union e.V.
REFRESH-INTERVAL;VALUE=DURATION:PT1H
X-Robots-Tag:noindex
X-PUBLISHED-TTL:PT1H
BEGIN:VTIMEZONE
TZID:Europe/Berlin
BEGIN:DAYLIGHT
TZOFFSETFROM:+0100
TZOFFSETTO:+0200
TZNAME:CEST
DTSTART:20260329T010000
END:DAYLIGHT
BEGIN:STANDARD
TZOFFSETFROM:+0200
TZOFFSETTO:+0100
TZNAME:CET
DTSTART:20261025T010000
END:STANDARD
END:VTIMEZONE
BEGIN:VEVENT
DTSTART;TZID=Europe/Berlin:20261024T110000
DTEND;TZID=Europe/Berlin:20261024T170000
DTSTAMP:20260425T174929
CREATED:20251217T153557Z
LAST-MODIFIED:20251217T154202Z
UID:6279-1792839600-1792861200@djju.de
SUMMARY:HS - SV-Lehrgang
DESCRIPTION:SV-Lehrgang-HS 26
URL:https://djju.de/veranstaltung/sv-workshop/
LOCATION:Seligenstadt\, Franz-Böres-Straße 21\, Seligenstadt\, Hessen\, 63500\, Deutschland
CATEGORIES:Hessen,Vereinslehrgang
END:VEVENT
END:VCALENDAR