BEGIN:VCALENDAR
VERSION:2.0
PRODID:-//Deutsche Jiu-Jitsu Union e.V. - ECPv6.2.4//NONSGML v1.0//EN
CALSCALE:GREGORIAN
METHOD:PUBLISH
X-WR-CALNAME:Deutsche Jiu-Jitsu Union e.V.
X-ORIGINAL-URL:https://djju.de
X-WR-CALDESC:Veranstaltungen für Deutsche Jiu-Jitsu Union e.V.
REFRESH-INTERVAL;VALUE=DURATION:PT1H
X-Robots-Tag:noindex
X-PUBLISHED-TTL:PT1H
BEGIN:VTIMEZONE
TZID:Europe/Berlin
BEGIN:DAYLIGHT
TZOFFSETFROM:+0100
TZOFFSETTO:+0200
TZNAME:CEST
DTSTART:20260329T010000
END:DAYLIGHT
BEGIN:STANDARD
TZOFFSETFROM:+0200
TZOFFSETTO:+0100
TZNAME:CET
DTSTART:20261025T010000
END:STANDARD
END:VTIMEZONE
BEGIN:VEVENT
DTSTART;TZID=Europe/Berlin:20261205T120000
DTEND;TZID=Europe/Berlin:20261205T170000
DTSTAMP:20260425T204719
CREATED:20221126T170008Z
LAST-MODIFIED:20260103T125949Z
UID:6230-1796472000-1796490000@djju.de
SUMMARY:NDS - Landesprüfung
DESCRIPTION:LP 02/26 \nLandesprüfung\,\nBedarf melden\, 4 Wochen vor Termin an die Geschäftsstelle\nEinladung durch Lehr- und Prüfungsreferenten
URL:https://djju.de/veranstaltung/nds-landespruefung-02-26/
LOCATION:Flexibel\, Deutschland
CATEGORIES:Landesprüfung,Niedersachsen
END:VEVENT
END:VCALENDAR